BEGIN:VCALENDAR
VERSION:2.0
METHOD:PUBLISH
X-WR-CALNAME:מה"ט | אוקטובר  10 2009-נובמבר  09 2009
PRODID:-//strange bird labs//Drupal iCal API//EN
BEGIN:VEVENT
DTSTAMP;VALUE=DATE-TIME:20210516T232640Z
DTSTART;VALUE=DATE-TIME:20091017T210000Z
DTEND;VALUE=DATE-TIME:20091017T210000Z
UID:http://www.mahat.co.il/content/%D7%AA%D7%97%D7%99%D7%9C%D7%AA-%D7%A9%D7%A0%D7%AA-%D7%94%D7%9C%D7%99%D7%9E%D7%95%D7%93%D7%99%D7%9D
URL;VALUE=URI:http://www.mahat.co.il/content/%D7%AA%D7%97%D7%99%D7%9C%D7%AA-%D7%A9%D7%A0%D7%AA-%D7%94%D7%9C%D7%99%D7%9E%D7%95%D7%93%D7%99%D7%9D
SUMMARY:תחילת שנת הלימודים
DESCRIPTION:<p>18 באוקטובר</p>
 <p>2009</p>
 <p>תחילת שנת הלימודים</p>
 
END:VEVENT
END:VCALENDAR
