BEGIN:VCALENDAR
VERSION:2.0
METHOD:PUBLISH
X-WR-CALNAME:מה"ט | אוגוסט  05 2009-ספטמבר  04 2009
PRODID:-//strange bird labs//Drupal iCal API//EN
BEGIN:VEVENT
DTSTAMP;VALUE=DATE-TIME:20210613T000906Z
DTSTART;VALUE=DATE-TIME:20090809T210000Z
DTEND;VALUE=DATE-TIME:20090809T210000Z
UID:http://www.mahat.co.il/content/%D7%A4%D7%AA%D7%99%D7%97%D7%AA-%D7%94%D7%A8%D7%A9%D7%9E%D7%94-%D7%9C%D7%9E%D7%9C%D7%92%D7%AA-%D7%A4%D7%A8%D7%97
URL;VALUE=URI:http://www.mahat.co.il/content/%D7%A4%D7%AA%D7%99%D7%97%D7%AA-%D7%94%D7%A8%D7%A9%D7%9E%D7%94-%D7%9C%D7%9E%D7%9C%D7%92%D7%AA-%D7%A4%D7%A8%D7%97
SUMMARY:פתיחת הרשמה למלגת פר\\"ח
END:VEVENT
END:VCALENDAR
